BEGIN:VCALENDAR
VERSION:2.0
PRODID:-//wp-events-plugin.com//7.2.3.1//EN
BEGIN:VEVENT
UID:36@daystarr.net
DTSTART;TZID=America/Detroit:20260509T100000
DTEND;TZID=America/Detroit:20260509T140000
DTSTAMP:20260421T134333Z
URL:https://daystarr.net/events/may-9-st-johns-spring-fling/
SUMMARY:May 9: St. Johns Spring Fling
DESCRIPTION:Join us at the St. Johns Spring Fling!\n\nWe’ll be out on May
  9th from 10 AM – 2 PM at the St. Johns Depot (107 E Railroad St. - at t
 he corner of Clinton Ave. & E Railroad St.) with something for everyone:\n
 - Get up close with our bucket truck at Touch-a-Truck\n- Stop by our table
  for helpful resources\n- Learn about our current promotion\n\nBring the f
 amily\, say hello\, and see what DayStarr is all about. We can’t wait to
  see you there!
LOCATION:St. Johns Depot\, 107 E Railroad St.\, St Johns\, MI\, 48879\, St.
  Johns\, United States
X-APPLE-STRUCTURED-LOCATION;VALUE=URI;X-ADDRESS=107 E Railroad St.\, St Joh
 ns\, MI\, 48879\, St. Johns\, United States;X-APPLE-RADIUS=100;X-TITLE=St.
  Johns Depot:geo:0,0
END:VEVENT
BEGIN:VTIMEZONE
TZID:America/Detroit
X-LIC-LOCATION:America/Detroit
BEGIN:DAYLIGHT
DTSTART:20260308T030000
TZOFFSETFROM:-0500
TZOFFSETTO:-0400
TZNAME:EDT
END:DAYLIGHT
END:VTIMEZONE
END:VCALENDAR